BEGIN:VCALENDAR
VERSION:2.0
PRODID:-//Canvas Login - ECPv6.15.20//NONSGML v1.0//EN
CALSCALE:GREGORIAN
METHOD:PUBLISH
X-WR-CALNAME:Canvas Login
X-ORIGINAL-URL:https://info.canvas.gmu.edu
X-WR-CALDESC:Events for Canvas Login
REFRESH-INTERVAL;VALUE=DURATION:PT1H
X-Robots-Tag:noindex
X-PUBLISHED-TTL:PT1H
BEGIN:VTIMEZONE
TZID:America/New_York
BEGIN:DAYLIGHT
TZOFFSETFROM:-0500
TZOFFSETTO:-0400
TZNAME:EDT
DTSTART:20230312T070000
END:DAYLIGHT
BEGIN:STANDARD
TZOFFSETFROM:-0400
TZOFFSETTO:-0500
TZNAME:EST
DTSTART:20231105T060000
END:STANDARD
BEGIN:DAYLIGHT
TZOFFSETFROM:-0500
TZOFFSETTO:-0400
TZNAME:EDT
DTSTART:20240310T070000
END:DAYLIGHT
BEGIN:STANDARD
TZOFFSETFROM:-0400
TZOFFSETTO:-0500
TZNAME:EST
DTSTART:20241103T060000
END:STANDARD
BEGIN:DAYLIGHT
TZOFFSETFROM:-0500
TZOFFSETTO:-0400
TZNAME:EDT
DTSTART:20250309T070000
END:DAYLIGHT
BEGIN:STANDARD
TZOFFSETFROM:-0400
TZOFFSETTO:-0500
TZNAME:EST
DTSTART:20251102T060000
END:STANDARD
END:VTIMEZONE
BEGIN:VEVENT
DTSTART;TZID=America/New_York:20240703T120000
DTEND;TZID=America/New_York:20240703T130000
DTSTAMP:20260422T211145
CREATED:20240604T163211Z
LAST-MODIFIED:20240610T133048Z
UID:557-1720008000-1720011600@info.canvas.gmu.edu
SUMMARY:Brown Bag Session
DESCRIPTION:Register on Zoom \nCanvas Faculty Mentors\, Stearns Center\, and ITS weekly drop-in brown bag session\, open to all instructors and staff. These sessions are designed to be a space for follow-up questions and discussion about teaching in Canvas after you have completed initial training on Canvas. \nTopic: Assessments/Quizzes  \nHosts: Michelle Trumbo & Rachel Yoho 
URL:https://info.canvas.gmu.edu/event/brown-bag-session-6/
LOCATION:Virtual (Register for meeting link)
END:VEVENT
BEGIN:VEVENT
DTSTART;TZID=America/New_York:20240708T100000
DTEND;TZID=America/New_York:20240708T113000
DTSTAMP:20260422T211145
CREATED:20240604T163004Z
LAST-MODIFIED:20240610T133048Z
UID:547-1720432800-1720438200@info.canvas.gmu.edu
SUMMARY:Getting Started with Canvas
DESCRIPTION:Register on MasonLEAPS \nMeet the Canvas environment and global navigation\, understand the migration from Blackboard\, and manage course details and navigation. \nNote: This session will cover the same content as the first part of the Canvas Boot Camp.
URL:https://info.canvas.gmu.edu/event/getting-started-with-canvas/
LOCATION:Virtual (Register for meeting link)
END:VEVENT
BEGIN:VEVENT
DTSTART;TZID=America/New_York:20240710T120000
DTEND;TZID=America/New_York:20240710T130000
DTSTAMP:20260422T211145
CREATED:20240604T163310Z
LAST-MODIFIED:20240610T133048Z
UID:558-1720612800-1720616400@info.canvas.gmu.edu
SUMMARY:Brown Bag Session
DESCRIPTION:Register on Zoom \nCanvas Faculty Mentors\, Stearns Center\, and ITS weekly drop-in brown bag session\, open to all instructors and staff. These sessions are designed to be a space for follow-up questions and discussion about teaching in Canvas after you have completed initial training on Canvas. \nTopic: Module Pacing through Pre-requisites and Requirements  \nHosts: Lila Fleming & Julia Tungli 
URL:https://info.canvas.gmu.edu/event/brown-bag-session-7/
LOCATION:Virtual (Register for meeting link)
END:VEVENT
BEGIN:VEVENT
DTSTART;TZID=America/New_York:20240717T120000
DTEND;TZID=America/New_York:20240717T130000
DTSTAMP:20260422T211145
CREATED:20240604T163310Z
LAST-MODIFIED:20240610T133058Z
UID:559-1721217600-1721221200@info.canvas.gmu.edu
SUMMARY:Brown Bag Session
DESCRIPTION:Register on Zoom \nCanvas Faculty Mentors\, Stearns Center\, and ITS weekly drop-in brown bag session\, open to all instructors and staff. These sessions are designed to be a space for follow-up questions and discussion about teaching in Canvas after you have completed initial training on Canvas. \nTopic: “Good Practices” for Modules  \nHosts: Sara Gopalkrishna & Laina Lockett 
URL:https://info.canvas.gmu.edu/event/brown-bag-session-8/
LOCATION:Virtual (Register for meeting link)
END:VEVENT
BEGIN:VEVENT
DTSTART;TZID=America/New_York:20240724T120000
DTEND;TZID=America/New_York:20240724T130000
DTSTAMP:20260422T211145
CREATED:20240604T163310Z
LAST-MODIFIED:20240610T133058Z
UID:560-1721822400-1721826000@info.canvas.gmu.edu
SUMMARY:Brown Bag Session
DESCRIPTION:Register on Zoom \nCanvas Faculty Mentors\, Stearns Center\, and ITS weekly drop-in brown bag session\, open to all instructors and staff. These sessions are designed to be a space for follow-up questions and discussion about teaching in Canvas after you have completed initial training on Canvas. \nTopic: Using Perusall  \nHosts: Alison Melley & Catesby Porfirenko 
URL:https://info.canvas.gmu.edu/event/brown-bag-session-9/
LOCATION:Virtual (Register for meeting link)
END:VEVENT
BEGIN:VEVENT
DTSTART;TZID=America/New_York:20240724T140000
DTEND;TZID=America/New_York:20240724T153000
DTSTAMP:20260422T211145
CREATED:20240604T163103Z
LAST-MODIFIED:20240610T133058Z
UID:548-1721829600-1721835000@info.canvas.gmu.edu
SUMMARY:Getting Started with Canvas
DESCRIPTION:Register on MasonLEAPS \nMeet the Canvas environment and global navigation\, understand the migration from Blackboard\, and manage course details and navigation. \nNote: This session will cover the same content as the first part of the Canvas Boot Camp.
URL:https://info.canvas.gmu.edu/event/getting-started-with-canvas-2/
LOCATION:Virtual (Register for meeting link)
END:VEVENT
BEGIN:VEVENT
DTSTART;TZID=America/New_York:20240731T120000
DTEND;TZID=America/New_York:20240731T130000
DTSTAMP:20260422T211145
CREATED:20240604T163311Z
LAST-MODIFIED:20240610T133058Z
UID:561-1722427200-1722430800@info.canvas.gmu.edu
SUMMARY:Brown Bag Session
DESCRIPTION:Register on Zoom \nCanvas Faculty Mentors\, Stearns Center\, and ITS weekly drop-in brown bag session\, open to all instructors and staff. These sessions are designed to be a space for follow-up questions and discussion about teaching in Canvas after you have completed initial training on Canvas. \nTopic: Using Canvas with face-to-face classes  \nHosts: Breana Bayraktar  
URL:https://info.canvas.gmu.edu/event/brown-bag-session-10/
LOCATION:Virtual (Register for meeting link)
END:VEVENT
END:VCALENDAR